BEGIN:VCALENDAR
VERSION:2.0
PRODID:-//Sherwood Forest - ECPv6.15.16//NONSGML v1.0//EN
CALSCALE:GREGORIAN
METHOD:PUBLISH
X-WR-CALNAME:Sherwood Forest
X-ORIGINAL-URL:https://www.sherwoodforeststl.org
X-WR-CALDESC:Events for Sherwood Forest
REFRESH-INTERVAL;VALUE=DURATION:PT1H
X-Robots-Tag:noindex
X-PUBLISHED-TTL:PT1H
BEGIN:VTIMEZONE
TZID:America/Chicago
BEGIN:DAYLIGHT
TZOFFSETFROM:-0600
TZOFFSETTO:-0500
TZNAME:CDT
DTSTART:20170312T080000
END:DAYLIGHT
BEGIN:STANDARD
TZOFFSETFROM:-0500
TZOFFSETTO:-0600
TZNAME:CST
DTSTART:20171105T070000
END:STANDARD
BEGIN:DAYLIGHT
TZOFFSETFROM:-0600
TZOFFSETTO:-0500
TZNAME:CDT
DTSTART:20180311T080000
END:DAYLIGHT
BEGIN:STANDARD
TZOFFSETFROM:-0500
TZOFFSETTO:-0600
TZNAME:CST
DTSTART:20181104T070000
END:STANDARD
BEGIN:DAYLIGHT
TZOFFSETFROM:-0600
TZOFFSETTO:-0500
TZNAME:CDT
DTSTART:20190310T080000
END:DAYLIGHT
BEGIN:STANDARD
TZOFFSETFROM:-0500
TZOFFSETTO:-0600
TZNAME:CST
DTSTART:20191103T070000
END:STANDARD
BEGIN:DAYLIGHT
TZOFFSETFROM:-0600
TZOFFSETTO:-0500
TZNAME:CDT
DTSTART:20200308T080000
END:DAYLIGHT
BEGIN:STANDARD
TZOFFSETFROM:-0500
TZOFFSETTO:-0600
TZNAME:CST
DTSTART:20201101T070000
END:STANDARD
BEGIN:DAYLIGHT
TZOFFSETFROM:-0600
TZOFFSETTO:-0500
TZNAME:CDT
DTSTART:20210314T080000
END:DAYLIGHT
BEGIN:STANDARD
TZOFFSETFROM:-0500
TZOFFSETTO:-0600
TZNAME:CST
DTSTART:20211107T070000
END:STANDARD
BEGIN:DAYLIGHT
TZOFFSETFROM:-0600
TZOFFSETTO:-0500
TZNAME:CDT
DTSTART:20220313T080000
END:DAYLIGHT
BEGIN:STANDARD
TZOFFSETFROM:-0500
TZOFFSETTO:-0600
TZNAME:CST
DTSTART:20221106T070000
END:STANDARD
BEGIN:DAYLIGHT
TZOFFSETFROM:-0600
TZOFFSETTO:-0500
TZNAME:CDT
DTSTART:20230312T080000
END:DAYLIGHT
BEGIN:STANDARD
TZOFFSETFROM:-0500
TZOFFSETTO:-0600
TZNAME:CST
DTSTART:20231105T070000
END:STANDARD
BEGIN:DAYLIGHT
TZOFFSETFROM:-0600
TZOFFSETTO:-0500
TZNAME:CDT
DTSTART:20240310T080000
END:DAYLIGHT
BEGIN:STANDARD
TZOFFSETFROM:-0500
TZOFFSETTO:-0600
TZNAME:CST
DTSTART:20241103T070000
END:STANDARD
BEGIN:DAYLIGHT
TZOFFSETFROM:-0600
TZOFFSETTO:-0500
TZNAME:CDT
DTSTART:20250309T080000
END:DAYLIGHT
BEGIN:STANDARD
TZOFFSETFROM:-0500
TZOFFSETTO:-0600
TZNAME:CST
DTSTART:20251102T070000
END:STANDARD
END:VTIMEZONE
BEGIN:VEVENT
DTSTART;TZID=America/Chicago:20241005T190000
DTEND;TZID=America/Chicago:20241005T220000
DTSTAMP:20260420T085435
CREATED:20240117T222339Z
LAST-MODIFIED:20240117T222339Z
UID:4911-1728154800-1728165600@www.sherwoodforeststl.org
SUMMARY:Trivia Night
DESCRIPTION:
URL:https://www.sherwoodforeststl.org/event/trivia-night/
LOCATION:The Pavillion at Lemay\, 305 Gregg Road\, St. Louis\, MO\, 63125\, United States
END:VEVENT
BEGIN:VEVENT
DTSTART;VALUE=DATE:20240419
DTEND;VALUE=DATE:20240422
DTSTAMP:20260420T085435
CREATED:20240117T215359Z
LAST-MODIFIED:20240117T215359Z
UID:4910-1713484800-1713743999@www.sherwoodforeststl.org
SUMMARY:Volunteer Trades Weekend
DESCRIPTION:
URL:https://www.sherwoodforeststl.org/event/volunteer-trades-weekend-5/
LOCATION:Sherwood Forest Camp
END:VEVENT
BEGIN:VEVENT
DTSTART;TZID=America/Chicago:20240406T180000
DTEND;TZID=America/Chicago:20240406T220000
DTSTAMP:20260420T085435
CREATED:20240117T214645Z
LAST-MODIFIED:20240117T214647Z
UID:4903-1712426400-1712440800@www.sherwoodforeststl.org
SUMMARY:23rd Annual Blue Jean Ball
DESCRIPTION:
URL:https://www.sherwoodforeststl.org/event/23rd-annual-blue-jean-ball/
LOCATION:Third Degree Glass Factory 5200 Delmar Blvd\, St Louis\, MO\, 5200 Delmar Blvd\, St. Louis\, MO\, 63108\, United States
END:VEVENT
BEGIN:VEVENT
DTSTART;VALUE=DATE:20240405
DTEND;VALUE=DATE:20240410
DTSTAMP:20260420T085435
CREATED:20240117T215045Z
LAST-MODIFIED:20240117T215046Z
UID:4907-1712275200-1712707199@www.sherwoodforeststl.org
SUMMARY:2024 Eclipse Escape
DESCRIPTION:
URL:https://www.sherwoodforeststl.org/event/2024-eclipse-escape/
LOCATION:Sherwood Forest Camp
END:VEVENT
BEGIN:VEVENT
DTSTART;TZID=America/Chicago:20240222T180000
DTEND;TZID=America/Chicago:20240222T210000
DTSTAMP:20260420T085435
CREATED:20240117T215245Z
LAST-MODIFIED:20240117T215245Z
UID:4909-1708624800-1708635600@www.sherwoodforeststl.org
SUMMARY:Annual Dinner
DESCRIPTION:
URL:https://www.sherwoodforeststl.org/event/annual-dinner/
LOCATION:Deer Creek Club\, 9861 Deer Creek Hill\, St. Louis\, MO\, 63124\, United States
END:VEVENT
BEGIN:VEVENT
DTSTART;VALUE=DATE:20230421
DTEND;VALUE=DATE:20230423
DTSTAMP:20260420T085435
CREATED:20221110T174640Z
LAST-MODIFIED:20221110T175150Z
UID:4008-1682035200-1682207999@www.sherwoodforeststl.org
SUMMARY:Volunteer Trades Weekend
DESCRIPTION:Volunteer Trades Weekend is fun event for Sherwood Forest supporters\, particularly those in professional trades industries\, to help with a variety of projects that make our camp a better place for the kids who call it home during the summer. This year\, the event will take place Friday April 21st – Sunday\, April 23rd at our campsite in Lesterville\, Missouri. Register today at https://forms.gle/fkQyFtXe8xMikGz29!
URL:https://www.sherwoodforeststl.org/event/volunteer-trades-weekend-4/
LOCATION:Sherwood Forest Camp
CATEGORIES:Volunteer
ATTACH;FMTTYPE=image/jpeg:https://www.sherwoodforeststl.org/wp-content/uploads/2022/11/Copy-of-Copy-of-VTW-collage.jpg
END:VEVENT
BEGIN:VEVENT
DTSTART;VALUE=DATE:20220716
DTEND;VALUE=DATE:20220809
DTSTAMP:20260420T085435
CREATED:20211213T204538Z
LAST-MODIFIED:20211213T204538Z
UID:3779-1657929600-1660003199@www.sherwoodforeststl.org
SUMMARY:Leadership Camp Session 2
DESCRIPTION:6th – 9th Graders who identify as male  
URL:https://www.sherwoodforeststl.org/event/leadership-camp-session-2/
LOCATION:Sherwood Forest Camp
CATEGORIES:Programs
END:VEVENT
BEGIN:VEVENT
DTSTART;VALUE=DATE:20220716
DTEND;VALUE=DATE:20220731
DTSTAMP:20260420T085435
CREATED:20211213T204415Z
LAST-MODIFIED:20211213T204415Z
UID:3778-1657929600-1659225599@www.sherwoodforeststl.org
SUMMARY:Explorer Camp Session 2
DESCRIPTION:3rd – 5th Graders who identify as male 
URL:https://www.sherwoodforeststl.org/event/explorer-camp-session-2/
LOCATION:Sherwood Forest Camp
CATEGORIES:Programs
END:VEVENT
BEGIN:VEVENT
DTSTART;VALUE=DATE:20220617
DTEND;VALUE=DATE:20220711
DTSTAMP:20260420T085435
CREATED:20211213T204100Z
LAST-MODIFIED:20211213T204100Z
UID:3777-1655424000-1657497599@www.sherwoodforeststl.org
SUMMARY:Leadership Camp Session 1
DESCRIPTION:6th – 9th Graders who identify as female 
URL:https://www.sherwoodforeststl.org/event/leadership-camp-session-1/
LOCATION:MO
CATEGORIES:Programs
END:VEVENT
BEGIN:VEVENT
DTSTART;VALUE=DATE:20220617
DTEND;VALUE=DATE:20220702
DTSTAMP:20260420T085435
CREATED:20211213T203817Z
LAST-MODIFIED:20211213T203817Z
UID:3776-1655424000-1656719999@www.sherwoodforeststl.org
SUMMARY:Explorer Camp Session 1
DESCRIPTION:3rd – 5th Graders who identify as female 
URL:https://www.sherwoodforeststl.org/event/explorer-camp-session-1/
LOCATION:MO
CATEGORIES:Programs
END:VEVENT
BEGIN:VEVENT
DTSTART;VALUE=DATE:20220608
DTEND;VALUE=DATE:20220613
DTSTAMP:20260420T085435
CREATED:20211213T203559Z
LAST-MODIFIED:20211213T204618Z
UID:3775-1654646400-1655078399@www.sherwoodforeststl.org
SUMMARY:Mini Camp
DESCRIPTION:1st/2nd Graders (All genders) 
URL:https://www.sherwoodforeststl.org/event/mini-camp/
LOCATION:Sherwood Forest Camp
CATEGORIES:Programs
END:VEVENT
BEGIN:VEVENT
DTSTART;TZID=America/Chicago:20220430T180000
DTEND;TZID=America/Chicago:20220430T220000
DTSTAMP:20260420T085435
CREATED:20211213T203142Z
LAST-MODIFIED:20220318T181017Z
UID:3772-1651341600-1651356000@www.sherwoodforeststl.org
SUMMARY:21st Annual Blue Jean Ball
DESCRIPTION:Join us for an evening under the stars as we help children discover the best in themselves at camp this summer. At Sherwood Forest\, our campers develop social-emotional skills and academic interests necessary to succeed in school\, work\, and life. Support this important work by attending this fun-filled evening complete with our auction\, wine-pulls\, raffles\, cocktails\, food trucks\, entertainment and more! \nVisit our 2022 Blue Jean Ball Event website https://one.bidpal.net/2022bjb to purchase tickets and learn more about our event! \nSponsorship Opportunities are Available! \n2022 Blue Jean Ball Sponsorship Opportunities \nFor more information on Sponsorships or to become one\, contact Angela Fulbright at (314) 644-3322 or email angelaf@sherwoodforeststl.org.
URL:https://www.sherwoodforeststl.org/event/21st-annual-blue-jean-ball/
LOCATION:MO
CATEGORIES:Fundraiser
END:VEVENT
BEGIN:VEVENT
DTSTART;VALUE=DATE:20220422
DTEND;VALUE=DATE:20220425
DTSTAMP:20260420T085435
CREATED:20211213T203336Z
LAST-MODIFIED:20211213T203336Z
UID:3774-1650585600-1650844799@www.sherwoodforeststl.org
SUMMARY:Volunteer Trades Weekend
DESCRIPTION:
URL:https://www.sherwoodforeststl.org/event/volunteer-trades-weekend-3/
LOCATION:Sherwood Forest Camp
CATEGORIES:Volunteer
END:VEVENT
BEGIN:VEVENT
DTSTART;VALUE=DATE:20220408
DTEND;VALUE=DATE:20220411
DTSTAMP:20260420T085435
CREATED:20211213T203247Z
LAST-MODIFIED:20211213T203247Z
UID:3773-1649376000-1649635199@www.sherwoodforeststl.org
SUMMARY:Volunteer Trades Weekend
DESCRIPTION:
URL:https://www.sherwoodforeststl.org/event/volunteer-trades-weekend-2/
LOCATION:Sherwood Forest Camp
CATEGORIES:Volunteer
END:VEVENT
BEGIN:VEVENT
DTSTART;TZID=America/Chicago:20210417T180000
DTEND;TZID=America/Chicago:20210417T190000
DTSTAMP:20260420T085435
CREATED:20210311T170839Z
LAST-MODIFIED:20210329T152131Z
UID:3510-1618682400-1618686000@www.sherwoodforeststl.org
SUMMARY:20th Annual Blue Jean Ball
DESCRIPTION:The Blue Jean Ball is our signature annual event where\nwe share our work and impact with the St. Louis community and\nraise funds to support our campers.\n\n\n\n\nJoin us virtually on April 17th for the 20th Annual Blue Jean Ball hosted by Rene Knott of KSDK’s Today in St. Louis and Heidi Glaus of the Big 550 KTRS! This summer\, Sherwood Forest is excited to once again open camp to the children of St. Louis who need it most and we need your help to give them a truly impactful experience.\n\n\n\n\nYour support of the Blue Jean Ball removes barriers for youth from under-resourced communities and provides powerful learning experiences that promote confidence\, resilience\, and self-worth. The camp experience is transformational for the children we serve\, staying with them for years to come. By providing highly engaging experiential adventures and evidence-based programs that focus on developing social-emotional skills and academic attitudes\, Sherwood Forest campers are given the foundation they need to succeed at home\, in school\, and within their communities.\n\n\n\n\nHow can you be involved in this year’s Blue Jean Ball?\n\n1. Watch the Blue Jean Ball via our Facebook and Youtube channels on April 17\, 2021\n2. Purchase a Party in Place or a VIP Reception package to enjoy during the event.\n3. Donate a 100% tax-deductible Campership gift that provides the opportunity for St. Louis children to go to our camp in Lesterville this summer.\n4. Share on your own social media channels your love for Sherwood Forest!
URL:https://www.sherwoodforeststl.org/event/21bjb/
LOCATION:Virtual
CATEGORIES:Fundraiser
ORGANIZER;CN="Angela Fulbright":MAILTO:angelaf@sherwoodforeststl.org
END:VEVENT
BEGIN:VEVENT
DTSTART;TZID=America/Chicago:20200418T180000
DTEND;TZID=America/Chicago:20200418T200000
DTSTAMP:20260420T085435
CREATED:20200115T210823Z
LAST-MODIFIED:20200418T142848Z
UID:3154-1587232800-1587240000@www.sherwoodforeststl.org
SUMMARY:19th Annual Blue Jean Ball
DESCRIPTION:Join us for Sherwood Forest’s 19th Annual Blue Jean Ball and help us IGNITE a spark within our campers. \nProceeds directly benefit Sherwood Forest\, our mission\, and our campers. \nVisit our Facebook and Youtube pages to watch the event starting at 6:00pm on April 18th. ‘ \nTo donate or bid on auction items\, visit: https://one.bidpal.net/bjb2020/welcome \nWant to share a craft with your family and show your Blue Jean Ball flair on our social media channels? Print this fun fan and post a picture of it with the #bjb2020 hashtag! \nSherwood_Printablefan_41220
URL:https://www.sherwoodforeststl.org/event/bjb2020/
LOCATION:MO
CATEGORIES:Fundraiser
ATTACH;FMTTYPE=image/jpeg:https://www.sherwoodforeststl.org/wp-content/uploads/2020/01/Sherwood_SavetheDate_WebHeader2.jpg
END:VEVENT
BEGIN:VEVENT
DTSTART;TZID=America/Chicago:20190928T183000
DTEND;TZID=America/Chicago:20190928T230000
DTSTAMP:20260420T085435
CREATED:20190708T190226Z
LAST-MODIFIED:20190708T211226Z
UID:2686-1569695400-1569711600@www.sherwoodforeststl.org
SUMMARY:3rd Annual Friends of Sherwood Forest Trivia Night
DESCRIPTION:Registration is now open for Sherwood Forest’s 3rd Annual Trivia Night!  \nUse the code EARLYBIRD to get 10% off of your tickets. This offer ends August 9 so don’t wait!\n\n\nJoin us for an evening of games\, raffles\, trivia\, and fun! Stay tuned for more details.\n\n\nThe International Institute – 3401 Arsenal St\, St. Louis\, MO 63118\nSaturday\, September 28th\nDoors open at 6:30\, Trivia starts at 7:00\n \n\n			\n				Purchase your table!\n			\n				\n				\n				\n				\n				Interested in helping plan Trivia Night? Join the Friends of Sherwood Forest! Email Libby for more info.
URL:https://www.sherwoodforeststl.org/event/sftrivia19/
LOCATION:International Institute\, 3401 Arsenal St\, St. Louis\, MO\, 63118\, United States
CATEGORIES:Friends of Sherwood Forest,Fundraiser
ATTACH;FMTTYPE=image/jpeg:https://www.sherwoodforeststl.org/wp-content/uploads/2019/07/Trivia-Night-Header-2019-1-scaled.jpg
ORGANIZER;CN="Libby Sunkari":MAILTO:libbys@sherwoodforeststl.org
END:VEVENT
BEGIN:VEVENT
DTSTART;TZID=America/Chicago:20190720T070000
DTEND;TZID=America/Chicago:20190720T160000
DTSTAMP:20260420T085435
CREATED:20180521T200622Z
LAST-MODIFIED:20190108T202146Z
UID:2001-1563606000-1563638400@www.sherwoodforeststl.org
SUMMARY:Donor Visit Day - Girls Camp
DESCRIPTION:Want to experience the true impact of your gifts to Sherwood Forest? We invite you to join us at our camp site in Lesterville\, Missouri this summer and learn firsthand why our kids call Sherwood Forest their “home away from home.” \nThis year’s donor visit days will be:\nBoys Camp – Saturday\, June 22\nGirls Camp – Saturday\, July 20 \nTransportation to and from St. Louis will be provided. \nPlease email Libby or call 314-644-3322 to schedule your visit. If these dates do not work with your schedule\, we are happy to set up a trip to Sherwood Forest for you any time camp is in session.
URL:https://www.sherwoodforeststl.org/event/donor-visit-day-girls-camp/
LOCATION:Sherwood Forest Office\, 27080 Sutton Blvd.\, St. Louis\, MO\, 63143
ATTACH;FMTTYPE=image/png:https://www.sherwoodforeststl.org/wp-content/uploads/2018/05/2018-Donor-Visit-image-for-website.png
ORGANIZER;CN="Libby Sunkari":MAILTO:libbys@sherwoodforeststl.org
END:VEVENT
BEGIN:VEVENT
DTSTART;TZID=America/Chicago:20190622T070000
DTEND;TZID=America/Chicago:20190622T160000
DTSTAMP:20260420T085435
CREATED:20180521T200446Z
LAST-MODIFIED:20190108T201755Z
UID:1999-1561186800-1561219200@www.sherwoodforeststl.org
SUMMARY:Donor Visit Day - Boys Camp
DESCRIPTION:Want to experience the true impact of your gifts to Sherwood Forest? We invite you to join us at our camp site in Lesterville\, Missouri this summer and learn firsthand why our kids call Sherwood Forest their “home away from home.” \nThis year’s donor visit days will be:\nBoys Camp – Saturday\, June 22\nGirls Camp – Saturday\, July 20 \nTransportation to and from St. Louis will be provided. \nPlease email Libby at libbys@sherwoodforeststl.org or call 314-644-3322 to schedule your visit. If these dates do not work with your schedule\, we are happy to set up a trip to Sherwood Forest for you any time camp is in session.
URL:https://www.sherwoodforeststl.org/event/donor-visit-day-boys-camp/
LOCATION:MO
ATTACH;FMTTYPE=image/png:https://www.sherwoodforeststl.org/wp-content/uploads/2018/05/2018-Donor-Visit-image-for-website.png
ORGANIZER;CN="Libby Sunkari":MAILTO:libbys@sherwoodforeststl.org
END:VEVENT
BEGIN:VEVENT
DTSTART;TZID=America/Chicago:20190427T180000
DTEND;TZID=America/Chicago:20190427T230000
DTSTAMP:20260420T085435
CREATED:20181203T152904Z
LAST-MODIFIED:20181203T202355Z
UID:2253-1556388000-1556406000@www.sherwoodforeststl.org
SUMMARY:18th Annual Blue Jean Ball - Our Journey
DESCRIPTION:Join us as we celebrate Our Journey helping children discover the best in themselves at the 18th annual Blue Jean Ball. \nGuests will journey through a fun evening of entertainment\, food\, drinks\, live and silent auctions\, raffles and much more! \nProceeds directly benefit Sherwood Forest\, our mission and the journey our campers make as they grow up with us. \nLearn more and purchase tickets!
URL:https://www.sherwoodforeststl.org/event/19bjb/
LOCATION:Grand Hall on Chouteau\, 2319 Chouteau Ave\, St. Louis\, MO\, 63103
CATEGORIES:Fundraiser
ATTACH;FMTTYPE=image/jpeg:https://www.sherwoodforeststl.org/wp-content/uploads/2018/12/Sherwood-Forest-Design.jpg
ORGANIZER;CN="Libby Sunkari":MAILTO:libbys@sherwoodforeststl.org
END:VEVENT
BEGIN:VEVENT
DTSTART;VALUE=DATE:20190405
DTEND;VALUE=DATE:20190408
DTSTAMP:20260420T085435
CREATED:20181203T161337Z
LAST-MODIFIED:20190110T223812Z
UID:2266-1554422400-1554681599@www.sherwoodforeststl.org
SUMMARY:Volunteer Trades Weekend
DESCRIPTION:Join us for the 9th Annual Volunteer Trades Weekend. The work that happens over Volunteer Trades Weekend is invaluable to Sherwood Forest.  Volunteers work on a variety of projects that help make our camp a better place for the kids who call it home during the summer.
URL:https://www.sherwoodforeststl.org/event/2019vtw/
LOCATION:Sherwood Forest Camp
CATEGORIES:Volunteer
ATTACH;FMTTYPE=image/jpeg:https://www.sherwoodforeststl.org/wp-content/uploads/2018/04/IMG_8978_resized.jpg
ORGANIZER;CN="Libby Sunkari":MAILTO:libbys@sherwoodforeststl.org
END:VEVENT
BEGIN:VEVENT
DTSTART;TZID=America/Chicago:20190205T180000
DTEND;TZID=America/Chicago:20190205T210000
DTSTAMP:20260420T085435
CREATED:20181203T153535Z
LAST-MODIFIED:20190115T160947Z
UID:2256-1549389600-1549400400@www.sherwoodforeststl.org
SUMMARY:Annual Dinner for 2018
DESCRIPTION:Join us as we take a look back on all of the accomplishments of 2018 and look forward to the future.
URL:https://www.sherwoodforeststl.org/event/annual-dinner-2018/
LOCATION:Deer Creek Club\, 9861 Deer Creek Hill\, St. Louis\, MO\, 63124\, United States
CATEGORIES:Fundraiser
ATTACH;FMTTYPE=image/jpeg:https://www.sherwoodforeststl.org/wp-content/uploads/2018/12/IMG_8583-scaled.jpg
ORGANIZER;CN="Libby Sunkari":MAILTO:libbys@sherwoodforeststl.org
END:VEVENT
BEGIN:VEVENT
DTSTART;TZID=America/Chicago:20181214T190000
DTEND;TZID=America/Chicago:20181214T210000
DTSTAMP:20260420T085435
CREATED:20181203T155820Z
LAST-MODIFIED:20181203T155820Z
UID:2257-1544814000-1544821200@www.sherwoodforeststl.org
SUMMARY:Alumni Holiday Party
DESCRIPTION:Reconnect with old camp friends and make new ones at our annual holiday get together at the Center of Vandeventer. \nDinner\, wine\, beer\, and soft drinks will be provided. Street parking is available and free after 7PM. \n\nAdmission is free and families are welcome. \n\nWe look forward to celebrating our year of many accomplishments and friendships with you on Friday!
URL:https://www.sherwoodforeststl.org/event/alumni-holiday-party/
LOCATION:Center on Vandeventer\, 320 N Vandeventer Ave\, St. Louis\, MO\, 63108
CATEGORIES:Alumni
ATTACH;FMTTYPE=image/jpeg:https://www.sherwoodforeststl.org/wp-content/uploads/2018/12/45683118_2343967182284678_9082688583482998784_n.jpg
ORGANIZER;CN="Aliyah Walls":MAILTO:aliyahw@sherwoodforeststl.org
END:VEVENT
BEGIN:VEVENT
DTSTART;TZID=America/Chicago:20181106T170000
DTEND;TZID=America/Chicago:20181106T200000
DTSTAMP:20260420T085435
CREATED:20181001T205620Z
LAST-MODIFIED:20181001T210344Z
UID:2217-1541523600-1541534400@www.sherwoodforeststl.org
SUMMARY:Steins for Support
DESCRIPTION:Great cause\, great drinks\, and great company! \nThe Friends of Sherwood Forest will be hosting a fundraiser at Urban Chestnut’s Midtown location on November 6th from 5-8PM. \nA percentage of all drink sales will be put towards supporting Sherwood Forest’s Supports for Success program. \nSupports for Success is our year-round program that helps camp alumni in 10th-12th grade prepare for post-secondary success. In May of 2018\, our first class of seniors completed high school. Supports for Success continues to support them through their next steps\, no matter if it’s college\, military\, or career. \nFunds raised at Steins For Support will help put together care packages for this group of Supports for Success participants currently pursuing their first post-secondary steps. \nHelp us support these great young people simply by stopping by Urban Chestnut and purchasing a drink!
URL:https://www.sherwoodforeststl.org/event/steins-for-support/
LOCATION:Urban Chestnut Brewery\, 3229 Washington Ave\, St. Louis\, MO\, 63103\, United States
CATEGORIES:Friends of Sherwood Forest,Fundraiser
ATTACH;FMTTYPE=image/jpeg:https://www.sherwoodforeststl.org/wp-content/uploads/2018/10/Steins-for-Support-Event-Postcard-scaled.jpg
ORGANIZER;CN="Libby Sunkari":MAILTO:libbys@sherwoodforeststl.org
END:VEVENT
BEGIN:VEVENT
DTSTART;TZID=America/Chicago:20180714T080000
DTEND;TZID=America/Chicago:20180714T200000
DTSTAMP:20260420T085435
CREATED:20180618T210500Z
LAST-MODIFIED:20180627T195228Z
UID:2016-1531555200-1531598400@www.sherwoodforeststl.org
SUMMARY:Alumni Service Day
DESCRIPTION:Give back while reliving fun times at camp! \nFormer campers and staff of Sherwood Forest are invited to spend a day at camp volunteering\, sharing meals with campers\, and partaking in fun activities. \nTransportation to and from camp will be provided as well as breakfast\, lunch\, and dinner. \nAlums will meet at our office in Maplewood (2708 Sutton Blvd) by 8 AM to travel down to camp. Participants are also welcome to drive themselves if they plan to arrive at camp by 10 AM. The Service Day will end by 6 PM at camp and return to St. Louis by 8 PM. \nTo register\, fill out this form. \nSpace is first come\, first serve so please register as soon as possible!
URL:https://www.sherwoodforeststl.org/event/alumniserviceday/
LOCATION:MO
CATEGORIES:Alumni,Volunteer
ATTACH;FMTTYPE=image/jpeg:https://www.sherwoodforeststl.org/wp-content/uploads/2018/06/Alumni-Service-Day-scaled.jpg
ORGANIZER;CN="Libby Sunkari":MAILTO:libbys@sherwoodforeststl.org
END:VEVENT
BEGIN:VEVENT
DTSTART;TZID=America/Chicago:20180505T180000
DTEND;TZID=America/Chicago:20180505T230000
DTSTAMP:20260420T085435
CREATED:20180208T194516Z
LAST-MODIFIED:20180504T200940Z
UID:1405-1525543200-1525561200@www.sherwoodforeststl.org
SUMMARY:Blue Jean Ball
DESCRIPTION:Join us as we celebrate the successes of our campers and help support the kids who call Sherwood Forest their home for the summer! The Blue Jean Ball is Sherwood Forest’s signature fundraising event. It’s an upscale party with a casual atmosphere. Come and enjoy great company\, auctions\, music\, and delicious food.
URL:https://www.sherwoodforeststl.org/event/bluejeanball/
LOCATION:The Caramel Room at Bissinger’s\, 1600 North Broadway\, St. Louis\, MO\, 63102
CATEGORIES:Fundraiser
ATTACH;FMTTYPE=image/jpeg:https://www.sherwoodforeststl.org/wp-content/uploads/2018/02/Website-event.jpg
ORGANIZER;CN="Matt Barker":MAILTO:MattB@SherwoodForestSTL.org
END:VEVENT
BEGIN:VEVENT
DTSTART;TZID=America/Chicago:20180429T130000
DTEND;TZID=America/Chicago:20180429T150000
DTSTAMP:20260420T085435
CREATED:20180212T211025Z
LAST-MODIFIED:20180313T210233Z
UID:1421-1525006800-1525014000@www.sherwoodforeststl.org
SUMMARY:Decision Day
DESCRIPTION:Let’s Celebrate! The Sherwood Forest family will proudly join the national College Decision Day tradition by hosting a reception honoring Supports for Success high school seniors. We are thrilled to provide a platform for the seniors to share their achievements and announce their post-secondary plans as the rest of us cheer them on. \nHelp us reach our goal of providing laptops to all of our graduating seniors – donate today!
URL:https://www.sherwoodforeststl.org/event/decision-day/
LOCATION:Washngton University\, Bauer Hall-Bauer 210\, McGinnis Classroom\, Snow Way\, 1 Brookings Drive\, St. Louis\, MO\, 63130\, United States
ATTACH;FMTTYPE=image/png:https://www.sherwoodforeststl.org/wp-content/uploads/2018/02/S4S-Banner.png
END:VEVENT
BEGIN:VEVENT
DTSTART;VALUE=DATE:20180406
DTEND;VALUE=DATE:20180409
DTSTAMP:20260420T085435
CREATED:20180109T212830Z
LAST-MODIFIED:20180209T165137Z
UID:1349-1522972800-1523231999@www.sherwoodforeststl.org
SUMMARY:Volunteer Trades Weekend
DESCRIPTION:Join us for the 8th Annual Volunteer Trades Weekend. The work that happens over Volunteer Trades Weekend is invaluable to Sherwood Forest.  Volunteers work on a variety of projects that help make our camp a better place for the kids who call it home during the summer.
URL:https://www.sherwoodforeststl.org/event/volunteer-trades-weekend/
LOCATION:MO
CATEGORIES:Volunteer
ATTACH;FMTTYPE=image/jpeg:https://www.sherwoodforeststl.org/wp-content/uploads/2018/01/IMG_0517_resized.jpg
ORGANIZER;CN="Libby Sunkari":MAILTO:libbys@sherwoodforeststl.org
END:VEVENT
BEGIN:VEVENT
DTSTART;TZID=America/Chicago:20180331T110000
DTEND;TZID=America/Chicago:20180331T150000
DTSTAMP:20260420T085435
CREATED:20180212T221812Z
LAST-MODIFIED:20180212T221812Z
UID:1430-1522494000-1522508400@www.sherwoodforeststl.org
SUMMARY:Boys STEM Event - World Bird Sanctuary
DESCRIPTION:If you have a 3rd\, 4th\, or 5th grade boy who will be attending camp this summer send them to “Creatures of Myth and Legend” at the World Bird Sanctuary with us.  We will separate fact form fiction about those animals that make you squirm.  Discover the truth with our Naturalists and the live\, creepy creatures that star in this program.  Come face to face with misunderstood animals and discover how they are actually beneficial for humans.
URL:https://www.sherwoodforeststl.org/event/boys-stem-event-world-bird-sanctuary/
LOCATION:MO
CATEGORIES:Programs
ORGANIZER;CN="Jeff Wilson":MAILTO:jeffw@sherwoodforeststl.org
END:VEVENT
BEGIN:VEVENT
DTSTART;TZID=America/Chicago:20180318T110000
DTEND;TZID=America/Chicago:20180318T150000
DTSTAMP:20260420T085435
CREATED:20180212T222020Z
LAST-MODIFIED:20180212T222245Z
UID:1432-1521370800-1521385200@www.sherwoodforeststl.org
SUMMARY:Girls S.T.E.M. Event- World Bird Sanctuary
DESCRIPTION:If you have a 3rd\, 4th\, or 5th grade girl who will be attending camp this summer send them to “Creatures of Myth and Legend” at the World Bird Sanctuary with us.  We will separate fact form fiction about those animals that make you squirm.  Discover the truth with our Naturalists and the live\, creepy creatures that star in this program.  Come face to face with misunderstood animals and discover how they are actually beneficial for humans.
URL:https://www.sherwoodforeststl.org/event/girls-s-t-e-m-event-world-bird-sanctuary/
LOCATION:MO
CATEGORIES:Programs
ORGANIZER;CN="Jeff Wilson":MAILTO:jeffw@sherwoodforeststl.org
END:VEVENT
END:VCALENDAR