BEGIN:VCALENDAR
VERSION:2.0
PRODID:-//Sherwood Forest - ECPv6.15.16//NONSGML v1.0//EN
CALSCALE:GREGORIAN
METHOD:PUBLISH
X-WR-CALNAME:Sherwood Forest
X-ORIGINAL-URL:https://www.sherwoodforeststl.org
X-WR-CALDESC:Events for Sherwood Forest
REFRESH-INTERVAL;VALUE=DURATION:PT1H
X-Robots-Tag:noindex
X-PUBLISHED-TTL:PT1H
BEGIN:VTIMEZONE
TZID:America/Chicago
BEGIN:DAYLIGHT
TZOFFSETFROM:-0600
TZOFFSETTO:-0500
TZNAME:CDT
DTSTART:20170312T080000
END:DAYLIGHT
BEGIN:STANDARD
TZOFFSETFROM:-0500
TZOFFSETTO:-0600
TZNAME:CST
DTSTART:20171105T070000
END:STANDARD
BEGIN:DAYLIGHT
TZOFFSETFROM:-0600
TZOFFSETTO:-0500
TZNAME:CDT
DTSTART:20180311T080000
END:DAYLIGHT
BEGIN:STANDARD
TZOFFSETFROM:-0500
TZOFFSETTO:-0600
TZNAME:CST
DTSTART:20181104T070000
END:STANDARD
BEGIN:DAYLIGHT
TZOFFSETFROM:-0600
TZOFFSETTO:-0500
TZNAME:CDT
DTSTART:20190310T080000
END:DAYLIGHT
BEGIN:STANDARD
TZOFFSETFROM:-0500
TZOFFSETTO:-0600
TZNAME:CST
DTSTART:20191103T070000
END:STANDARD
END:VTIMEZONE
BEGIN:VEVENT
DTSTART;TZID=America/Chicago:20180201T180000
DTEND;TZID=America/Chicago:20180201T210000
DTSTAMP:20260424T121932
CREATED:20180105T220127Z
LAST-MODIFIED:20180111T154503Z
UID:1319-1517508000-1517518800@www.sherwoodforeststl.org
SUMMARY:Annual Dinner for 2017
DESCRIPTION:Join us as we take a look back on all of the accomplishments of 2017 and learn look forward to the future. \nRSVP online
URL:https://www.sherwoodforeststl.org/event/annual-dinner-2017/
LOCATION:Deer Creek Club\, 9861 Deer Creek Hill\, St. Louis\, MO\, 63124\, United States
CATEGORIES:Fundraiser
ATTACH;FMTTYPE=image/jpeg:https://www.sherwoodforeststl.org/wp-content/uploads/2018/01/IMG_9719_EDIT-scaled.jpg
ORGANIZER;CN="Libby Sunkari":MAILTO:libbys@sherwoodforeststl.org
END:VEVENT
BEGIN:VEVENT
DTSTART;TZID=America/Chicago:20180128T130000
DTEND;TZID=America/Chicago:20180128T160000
DTSTAMP:20260424T121932
CREATED:20180108T213639Z
LAST-MODIFIED:20180108T213639Z
UID:1341-1517144400-1517155200@www.sherwoodforeststl.org
SUMMARY:3rd\, 4th\, and 5th Grade Group Interviews
DESCRIPTION:This interview is for any camper who is new to camp and has not attending an interview already.
URL:https://www.sherwoodforeststl.org/event/3rd-4th-and-5th-grade-group-interviews/
LOCATION:Washington University\, One Brookings Drive\,\, St. Louis\, MO
CATEGORIES:Programs
END:VEVENT
BEGIN:VEVENT
DTSTART;TZID=America/Chicago:20180127T140000
DTEND;TZID=America/Chicago:20180127T160000
DTSTAMP:20260424T121932
CREATED:20180109T214014Z
LAST-MODIFIED:20180109T214538Z
UID:1385-1517061600-1517068800@www.sherwoodforeststl.org
SUMMARY:Rekindle
DESCRIPTION:Join us as we kick of the public phase of our Way More Than Camp campaign. Rekindle is an event for the Sherwood Forest community to come together to learn more about our organization’s future plans and celebrate! The event will consist of stations where attendees can participate in camp related activities and fun. \nRSVP today!
URL:https://www.sherwoodforeststl.org/event/rekindle/
LOCATION:T-Rex\, 911 Washington Ave\, St. Louis\, MO\, 63101\, United States
CATEGORIES:Fundraiser
ATTACH;FMTTYPE=image/jpeg:https://www.sherwoodforeststl.org/wp-content/uploads/2018/01/Rekindle_Invitation_Digital_Page_2.jpg
ORGANIZER;CN="Libby Sunkari":MAILTO:libbys@sherwoodforeststl.org
END:VEVENT
BEGIN:VEVENT
DTSTART;TZID=America/Chicago:20180127T133000
DTEND;TZID=America/Chicago:20180127T173000
DTSTAMP:20260424T121932
CREATED:20180108T213639Z
LAST-MODIFIED:20180108T213639Z
UID:1331-1517059800-1517074200@www.sherwoodforeststl.org
SUMMARY:Leadership STLCOP Basketball Game
DESCRIPTION:Basketball Game St. Louis College of Pharmacy vs Lindenwood University – Belleville
URL:https://www.sherwoodforeststl.org/event/leadership-stlcop-basketball-game/
LOCATION:Sherwood Forest Office\, 27080 Sutton Blvd.\, St. Louis\, MO\, 63143
CATEGORIES:Programs
ORGANIZER;CN="Olivia Holzum":MAILTO:Programs@sherwoodforeststl.org
END:VEVENT
BEGIN:VEVENT
DTSTART;TZID=America/Chicago:20180121T100000
DTEND;TZID=America/Chicago:20180121T160000
DTSTAMP:20260424T121932
CREATED:20180108T213639Z
LAST-MODIFIED:20180108T213639Z
UID:1336-1516528800-1516550400@www.sherwoodforeststl.org
SUMMARY:Boys Journey Meeting
DESCRIPTION:This is a full work day meeting for Journey Boys..
URL:https://www.sherwoodforeststl.org/event/boys-journey-meeting/
LOCATION:Sherwood Forest Office\, 27080 Sutton Blvd.\, St. Louis\, MO\, 63143
CATEGORIES:Programs
ORGANIZER;CN="Olivia Holzum":MAILTO:Programs@sherwoodforeststl.org
END:VEVENT
BEGIN:VEVENT
DTSTART;TZID=America/Chicago:20180120T100000
DTEND;TZID=America/Chicago:20180120T160000
DTSTAMP:20260424T121932
CREATED:20180108T213639Z
LAST-MODIFIED:20180108T213639Z
UID:1334-1516442400-1516464000@www.sherwoodforeststl.org
SUMMARY:Girls Journey Meeting
DESCRIPTION:This is a full work day meeting for Journey Girls.
URL:https://www.sherwoodforeststl.org/event/girls-journey-meeting/
LOCATION:Sherwood Forest Office\, 27080 Sutton Blvd.\, St. Louis\, MO\, 63143
CATEGORIES:Programs
ORGANIZER;CN="Olivia Holzum":MAILTO:Programs@sherwoodforeststl.org
END:VEVENT
BEGIN:VEVENT
DTSTART;TZID=America/Chicago:20180115T073000
DTEND;TZID=America/Chicago:20180115T153000
DTSTAMP:20260424T121932
CREATED:20180108T213639Z
LAST-MODIFIED:20180109T232022Z
UID:1325-1516001400-1516030200@www.sherwoodforeststl.org
SUMMARY:Adventure Day of Service
DESCRIPTION:The boys and girls of Adventure are going to get together to do a service project.
URL:https://www.sherwoodforeststl.org/event/adventure-day-of-service/
LOCATION:Sherwood Forest Office\, 27080 Sutton Blvd.\, St. Louis\, MO\, 63143
CATEGORIES:Programs
ORGANIZER;CN="Olivia Holzum":MAILTO:Programs@sherwoodforeststl.org
END:VEVENT
BEGIN:VEVENT
DTSTART;TZID=America/Chicago:20180113T180000
DTEND;TZID=America/Chicago:20180113T210000
DTSTAMP:20260424T121932
CREATED:20180105T193302Z
LAST-MODIFIED:20180105T193302Z
UID:1313-1515866400-1515877200@www.sherwoodforeststl.org
SUMMARY:Trek Play Option
DESCRIPTION:Sherwood Forest Camp is proud to extend an opportunity to our Leadership Trek Campers through a partnership with Parkway West Middle.  Parkway West Middle School is proud to present its production\, Disney’s Beauty and the Beast This show boasts some of the schools greatest actors and set designers.   \nBased on the original Broadway production that ran for over thirteen years and was nominated for nine Tony Awards\, and the Academy Award-winning motion picture\, Disney’s Beauty and the Beast JR. is a fantastic adaptation of the story of transformation and tolerance.  Disney’s Beauty and the Beast JR. features some of the most popular songs ever written by Alan Menken and the late Howard Ashman\, along with new songs by Mr. Menken and Tim Rice. \nSherwood Forest Camp would like to thank Parkway West Middle for the donated tickets.  We invite you to join us for this fun filled event on Saturday\, January 13th.  Spaces are limited so please make sure you do not miss this opportunity.  
URL:https://www.sherwoodforeststl.org/event/trek-play-option/
LOCATION:Sherwood Forest Office\, 27080 Sutton Blvd.\, St. Louis\, MO\, 63143
CATEGORIES:Programs
ORGANIZER;CN="Jeff Wilson":MAILTO:jeffw@sherwoodforeststl.org
END:VEVENT
BEGIN:VEVENT
DTSTART;TZID=America/Chicago:20180113T130000
DTEND;TZID=America/Chicago:20180113T160000
DTSTAMP:20260424T121932
CREATED:20180108T213639Z
LAST-MODIFIED:20180108T213639Z
UID:1332-1515848400-1515859200@www.sherwoodforeststl.org
SUMMARY:Group Interviews for 3rd\, 4th\, and 5th Grade
DESCRIPTION:This interview is for any new campers who have not attended 26th day camp.
URL:https://www.sherwoodforeststl.org/event/group-interviews-for-3rd-4th-and-5th-grade/
LOCATION:St. Louis Community College – William J. Harrison Education Center\, 3140 Cass Avenue\,\, St. Louis\, MO\, 63106
CATEGORIES:Programs
END:VEVENT
BEGIN:VEVENT
DTSTART;TZID=America/Chicago:20180113T130000
DTEND;TZID=America/Chicago:20180113T150000
DTSTAMP:20260424T121932
CREATED:20180108T213638Z
LAST-MODIFIED:20180108T213638Z
UID:1340-1515848400-1515855600@www.sherwoodforeststl.org
SUMMARY:11th Grade Support for Success
DESCRIPTION:This is a meeting for the 11th graders in the Support for Success program.
URL:https://www.sherwoodforeststl.org/event/11th-grade-support-for-success/
LOCATION:Sherwood Forest Office\, 27080 Sutton Blvd.\, St. Louis\, MO\, 63143
CATEGORIES:Programs
ORGANIZER;CN="Onjheney Warren":MAILTO:Programs@sherwoodforeststl.org
END:VEVENT
BEGIN:VEVENT
DTSTART;TZID=America/Chicago:20180113T100000
DTEND;TZID=America/Chicago:20180113T120000
DTSTAMP:20260424T121932
CREATED:20180108T213639Z
LAST-MODIFIED:20180108T213639Z
UID:1339-1515837600-1515844800@www.sherwoodforeststl.org
SUMMARY:10th Grade Support for Success
DESCRIPTION:Support for Success meeting for 10th graders.
URL:https://www.sherwoodforeststl.org/event/10th-grade-support-for-success-2/
LOCATION:Sherwood Forest Office\, 27080 Sutton Blvd.\, St. Louis\, MO\, 63143
CATEGORIES:Programs
ORGANIZER;CN="Onjheney Warren":MAILTO:Programs@sherwoodforeststl.org
END:VEVENT
BEGIN:VEVENT
DTSTART;TZID=America/Chicago:20180107T100000
DTEND;TZID=America/Chicago:20180107T120000
DTSTAMP:20260424T121932
CREATED:20180105T174825Z
LAST-MODIFIED:20180105T174825Z
UID:1309-1515319200-1515326400@www.sherwoodforeststl.org
SUMMARY:Girls Challenge Meeting
DESCRIPTION:This meeting is for any participant who is enrolled in our Challenge Program (current 6th graders)  for summer of 2018.  We will meet and talk about summer expectations.  This is strongly encouraged so campers know what to expect and what is expected of them.
URL:https://www.sherwoodforeststl.org/event/girls-challenge-meeting/
LOCATION:Sherwood Forest Office\, 27080 Sutton Blvd.\, St. Louis\, MO\, 63143
CATEGORIES:Programs
ORGANIZER;CN="Jeff Wilson":MAILTO:jeffw@sherwoodforeststl.org
END:VEVENT
BEGIN:VEVENT
DTSTART;TZID=America/Chicago:20180106T100000
DTEND;TZID=America/Chicago:20180106T120000
DTSTAMP:20260424T121932
CREATED:20180105T174707Z
LAST-MODIFIED:20180105T174707Z
UID:1306-1515232800-1515240000@www.sherwoodforeststl.org
SUMMARY:Boys Challenge Meeting
DESCRIPTION:This meeting is for any participant who is enrolled in our Challenge Program (current 6th graders)  for summer of 2018.  We will meet and talk about summer expectations.  This is strongly encouraged so campers know what to expect and what is expected of them.
URL:https://www.sherwoodforeststl.org/event/boys-challenge-meeting/
LOCATION:Sherwood Forest Office\, 27080 Sutton Blvd.\, St. Louis\, MO\, 63143
CATEGORIES:Programs
ORGANIZER;CN="Jeff Wilson":MAILTO:jeffw@sherwoodforeststl.org
END:VEVENT
END:VCALENDAR