BEGIN:VCALENDAR
VERSION:2.0
PRODID:-//Sherwood Forest - ECPv6.15.16//NONSGML v1.0//EN
CALSCALE:GREGORIAN
METHOD:PUBLISH
X-WR-CALNAME:Sherwood Forest
X-ORIGINAL-URL:https://www.sherwoodforeststl.org
X-WR-CALDESC:Events for Sherwood Forest
REFRESH-INTERVAL;VALUE=DURATION:PT1H
X-Robots-Tag:noindex
X-PUBLISHED-TTL:PT1H
BEGIN:VTIMEZONE
TZID:America/Chicago
BEGIN:DAYLIGHT
TZOFFSETFROM:-0600
TZOFFSETTO:-0500
TZNAME:CDT
DTSTART:20230312T080000
END:DAYLIGHT
BEGIN:STANDARD
TZOFFSETFROM:-0500
TZOFFSETTO:-0600
TZNAME:CST
DTSTART:20231105T070000
END:STANDARD
BEGIN:DAYLIGHT
TZOFFSETFROM:-0600
TZOFFSETTO:-0500
TZNAME:CDT
DTSTART:20240310T080000
END:DAYLIGHT
BEGIN:STANDARD
TZOFFSETFROM:-0500
TZOFFSETTO:-0600
TZNAME:CST
DTSTART:20241103T070000
END:STANDARD
BEGIN:DAYLIGHT
TZOFFSETFROM:-0600
TZOFFSETTO:-0500
TZNAME:CDT
DTSTART:20250309T080000
END:DAYLIGHT
BEGIN:STANDARD
TZOFFSETFROM:-0500
TZOFFSETTO:-0600
TZNAME:CST
DTSTART:20251102T070000
END:STANDARD
END:VTIMEZONE
BEGIN:VEVENT
DTSTART;VALUE=DATE:20240405
DTEND;VALUE=DATE:20240410
DTSTAMP:20260421T071921
CREATED:20240117T215045Z
LAST-MODIFIED:20240117T215046Z
UID:4907-1712275200-1712707199@www.sherwoodforeststl.org
SUMMARY:2024 Eclipse Escape
DESCRIPTION:
URL:https://www.sherwoodforeststl.org/event/2024-eclipse-escape/
LOCATION:Sherwood Forest Camp
END:VEVENT
BEGIN:VEVENT
DTSTART;TZID=America/Chicago:20240406T180000
DTEND;TZID=America/Chicago:20240406T220000
DTSTAMP:20260421T071921
CREATED:20240117T214645Z
LAST-MODIFIED:20240117T214647Z
UID:4903-1712426400-1712440800@www.sherwoodforeststl.org
SUMMARY:23rd Annual Blue Jean Ball
DESCRIPTION:
URL:https://www.sherwoodforeststl.org/event/23rd-annual-blue-jean-ball/
LOCATION:Third Degree Glass Factory 5200 Delmar Blvd\, St Louis\, MO\, 5200 Delmar Blvd\, St. Louis\, MO\, 63108\, United States
END:VEVENT
BEGIN:VEVENT
DTSTART;VALUE=DATE:20240419
DTEND;VALUE=DATE:20240422
DTSTAMP:20260421T071921
CREATED:20240117T215359Z
LAST-MODIFIED:20240117T215359Z
UID:4910-1713484800-1713743999@www.sherwoodforeststl.org
SUMMARY:Volunteer Trades Weekend
DESCRIPTION:
URL:https://www.sherwoodforeststl.org/event/volunteer-trades-weekend-5/
LOCATION:Sherwood Forest Camp
END:VEVENT
END:VCALENDAR